2.438400
0.000000
0.000000
-2.438400
466072.561517
4178677.697121
