2.438400
0.000000
0.000000
-2.438400
488128.832570
4206375.178427
