10.15999961
0.00000000
0.00000000
-10.15999961
217074.07849043
3713163.68908751
