10.15999961
0.00000000
0.00000000
-10.15999961
218662.82001393
3768626.02192378
