10.15999961
0.00000000
0.00000000
-10.15999961
683201.14978518
3713449.59836168
