10.15999961
0.00000000
0.00000000
-10.15999961
682130.03421380
3768932.48182302
