10.160000000000
0.000000000000
0.000000000000
-10.160000000000
586870.426189313990
3933987.018695749300
