10.160000000000
0.000000000000
0.000000000000
-10.160000000000
587575.307806304190
3988404.954541217500
