10.160000000000
0.000000000000
0.000000000000
-10.160000000000
497455.519152410440
3931103.006986132800
