10.160000000000
0.000000000000
0.000000000000
-10.160000000000
497457.922062291880
3986873.693338931100
