10.160000000000
0.000000000000
0.000000000000
-10.160000000000
406170.800094512640
3931316.382896609600
