10.160000000000
0.000000000000
0.000000000000
-10.160000000000
406728.105637417060
3986643.285480974200
