10.160000000000
0.000000000000
0.000000000000
-10.160000000000
314759.402898549040
3932724.114909901300
