10.160000000000
0.000000000000
0.000000000000
-10.160000000000
315876.246943589010
3988185.872642990700
