10.160000000000
0.000000000000
0.000000000000
-10.160000000000
223399.412341085230
3935041.796311896800
