10.160000000000
0.000000000000
0.000000000000
-10.160000000000
225243.342573332340
3990521.945337258700
