10.160000000000
0.000000000000
0.000000000000
-10.160000000000
678821.019654021020
3935237.863648084000
