10.160000
0
0
-10.160000
677845.311026
3994526.529400
