10.160000
0.000000
0.000000
-10.160000
587787.062255
3932885.063564
