10.160000
0.000000
0.000000
-10.160000
586763.506373
3988518.806060
