10.160000000000
0.000000000000
0.000000000000
-10.160000000000
497451.221888812840
4042302.943972205700
