10.160000
0
0
-10.160000
497490.578484
4098091.304818
