10.160000000000
0.000000000000
0.000000000000
-10.160000000000
407292.404056721480
4042225.794204912100
