10.160000000000
0.000000000000
0.000000000000
-10.160000000000
407863.775694028770
4097699.064372022600
