10.160000000000
0.000000000000
0.000000000000
-10.160000000000
316986.506669438735
4043667.462509515220
