10.160000000000
0.000000000000
0.000000000000
-10.160000000000
318254.267629073990
4099148.068797194860
