10.160000
0
0
-10.160000
225784.045292
4047316.261171
