10.160000000000
0.000000000000
0.000000000000
-10.160000000000
228656.413031621690
4101494.765932505950
