10.160000000000
0.000000000000
0.000000000000
-10.160000000000
676546.783224524120
4046327.015842591400
