10.160000000000
0.000000000000
0.000000000000
-10.160000000000
675386.059459005370
4101819.672707623800
