10.15999961
0.00000000
0.00000000
-10.15999961
587031.10775013
4043809.30510029
