10.160000
0.000000
0.000000
-10.160000
584386.622464
4099942.499693
