10.160000
0.000000
0.000000
-10.160000
586773.695009
4155075.292254
