10.160000
0.000000
0.000000
-10.160000
586254.859423
4210412.879489
