10.160000
0.000000
0.000000
-10.160000
498282.423647
4153801.554597
