10.160000
0.000000
0.000000
-10.160000
498363.099159
4209005.937217
