10.160000
0.000000
0.000000
-10.160000
407158.335153
4153241.124461
