10.160000
0.000000
0.000000
-10.160000
408633.073030
4208609.199920
