10.160000
0.000000
0.000000
-10.160000
319649.522072
4154598.775066
