10.160000
0.000000
0.000000
-10.160000
321329.103941
4210146.920194
