10.15999961
0.00000000
0.00000000
-10.15999961
230401.17718580
4156974.65876317
