10.15999961
0.00000000
0.00000000
-10.15999961
232159.50185806
4212471.85638615
