10.15999961
0.00000000
0.00000000
-10.15999961
674203.20748880
4157568.20389585
