10.15999961
0.00000000
0.00000000
-10.15999961
673021.18256906
4212814.85666985
