10.160000
0
0
-10.160000
583421.755377
4154551.460541
