10.15999961
0.00000000
0.00000000
-10.15999961
585241.69514275
4210313.49992759
