25.40000078
0.00000000
0.00000000
-25.40000078
212740.21078352
3772545.19903916
