25.40000078
0.00000000
0.00000000
-25.40000078
586007.94342684
3772552.13234937
