25.400000000000
0.000000000000
0.000000000000
-25.400000000000
583799.867536494620
3994431.644570609100
