25.400000000000
0.000000000000
0.000000000000
-25.400000000000
402189.252760469620
3990599.546877751600
